BEGIN:VCALENDAR
VERSION:2.0
PRODID:-//Out and About Adventures - ECPv5.9.2//NONSGML v1.0//EN
CALSCALE:GREGORIAN
METHOD:PUBLISH
X-WR-CALNAME:Out and About Adventures
X-ORIGINAL-URL:https://www.outandaboutadventures.com.au
X-WR-CALDESC:Events for Out and About Adventures
BEGIN:VTIMEZONE
TZID:Australia/Sydney
BEGIN:STANDARD
TZOFFSETFROM:+1100
TZOFFSETTO:+1000
TZNAME:AEST
DTSTART:20260404T160000
END:STANDARD
BEGIN:DAYLIGHT
TZOFFSETFROM:+1000
TZOFFSETTO:+1100
TZNAME:AEDT
DTSTART:20261003T160000
END:DAYLIGHT
END:VTIMEZONE
BEGIN:VEVENT
DTSTART;VALUE=DATE:20260209
DTEND;VALUE=DATE:20260213
DTSTAMP:20260422T054418
CREATED:20241210T045315Z
LAST-MODIFIED:20260116T051222Z
UID:3941-1770595200-1770940799@www.outandaboutadventures.com.au
SUMMARY:Outdoor Education programs-Crosslands
DESCRIPTION:
URL:https://www.outandaboutadventures.com.au/event/outdoor-education-programs-crosslands/
LOCATION:NSW
END:VEVENT
BEGIN:VEVENT
DTSTART;TZID=Australia/Sydney:20260215T100000
DTEND;TZID=Australia/Sydney:20260215T140000
DTSTAMP:20260422T054418
CREATED:20260113T063948Z
LAST-MODIFIED:20260126T022949Z
UID:4294-1771149600-1771164000@www.outandaboutadventures.com.au
SUMMARY:Kayaking - Swansea & Lake Macquarie
DESCRIPTION:[vc_row][vc_column][vc_column_text] \nGet active and outdoors on Lake Macquarie with an adventure!\nCome and join us for a leisurely paddle departing from Wangi Point boat ramp. After gearing up and going through a short safety briefing\, we’ll venture our way across the lake to visit Swansea Channel\, the sand islands and the surrounding bays. \nDuring this 4hr session\, we’ll paddle approximately 10 km and enjoy a light bbq lunch and drinks together along the way. We should have plenty of time for a swim or snorkel(own gear) on the sand islands on the way \nThis is a great adventure to do with friends and family – why not bring someone along? \n\nTickets are $125pp. Purchase your tickets below\, or contact us with any questions. \nMinimum age is 10 years old\, and must be accompanied by their parent/guardian. Please contact us to discuss. \n[/vc_column_text][/vc_column][/vc_row][vc_row][vc_column][vc_btn title=”Read more\, see checklists & enquire” color=”warning” size=”lg” align=”center” i_icon_fontawesome=”fa fa-hand-pointer-o” add_icon=”true” link=”url:https%3A%2F%2Fwww.outandaboutadventures.com.au%2Ftours%2Fsea-kayaking%2F|||”][/vc_column][/vc_row]
URL:https://www.outandaboutadventures.com.au/event/australia-day-kayaking-swansea-lake-macquarie/
LOCATION:Lake Macquarie/Swansea Area\, Carpark opposite Wangi Pt Tourist Park\, Wangi Wangi\, NSW\, 2267\, Australia
CATEGORIES:Paddling Skills,Sea Kayaking
ATTACH;FMTTYPE=image/jpeg:https://www.outandaboutadventures.com.au/wp-content/uploads/2021/10/150844864_3877049749004982_8034698439098803933_n-e1637016088933.jpg
GEO:-33.0741651;151.6097376
X-APPLE-STRUCTURED-LOCATION;VALUE=URI;X-ADDRESS=Lake Macquarie/Swansea Area Carpark opposite Wangi Pt Tourist Park Wangi Wangi NSW 2267 Australia;X-APPLE-RADIUS=500;X-TITLE=Carpark opposite Wangi Pt Tourist Park:geo:151.6097376,-33.0741651
END:VEVENT
END:VCALENDAR