BEGIN:VCALENDAR
VERSION:2.0
PRODID:-//Out and About Adventures - ECPv5.9.2//NONSGML v1.0//EN
CALSCALE:GREGORIAN
METHOD:PUBLISH
X-WR-CALNAME:Out and About Adventures
X-ORIGINAL-URL:https://www.outandaboutadventures.com.au
X-WR-CALDESC:Events for Out and About Adventures
BEGIN:VTIMEZONE
TZID:Australia/Sydney
BEGIN:STANDARD
TZOFFSETFROM:+1100
TZOFFSETTO:+1000
TZNAME:AEST
DTSTART:20250405T160000
END:STANDARD
BEGIN:DAYLIGHT
TZOFFSETFROM:+1000
TZOFFSETTO:+1100
TZNAME:AEDT
DTSTART:20251004T160000
END:DAYLIGHT
END:VTIMEZONE
BEGIN:VEVENT
DTSTART;VALUE=DATE:20251102
DTEND;VALUE=DATE:20251109
DTSTAMP:20260422T130014
CREATED:20250114T030756Z
LAST-MODIFIED:20250519T111555Z
UID:4042-1762041600-1762646399@www.outandaboutadventures.com.au
SUMMARY:Snowy Mountains Hike and Paddle Adventure
DESCRIPTION:Our multi-day adventure in the Snowy Mountains is a must-do!  \nExperience the high country above the snowline in Kosciuszko National Park. We complete various day walks on tracks and also in alpine meadows with an experienced guide\, and cater for beginner to experienced adventurers. We like this to be a small-group adventure\, so limit our groups to no more than 7 participants.  \nThere’ll be time for us to also paddle on the calm waters of Lake Jindabyne\, and perhaps even have a BBQ on the way.  \n \n  \n  \nOur 6 nights accommodation is in quiet chalets near Jindabyne; each person is to self-cater and provide their own hiking gear. Shuttle van transfer for meals/shopping can be arranged upon request.   \n$970.00 pp (includes accommodation\, transfers from Lake Macquarie area\, daily National Parks Entry\, lift tickets at Thredbo and the services of your experienced guide for the week). A deposit of $300pp is required to secure your booking and interested parties can make contact via our Contact Us page of the website or contact Peter directly on 0404878332. \n 
URL:https://www.outandaboutadventures.com.au/event/snowy-mountains-hike-and-paddle-adventure-2/
LOCATION:Snowy Mountains | Kosciuszko National Park\, New South Wales\, Australia
CATEGORIES:Adventure Tours,Hiking,Sea Kayaking
ATTACH;FMTTYPE=image/jpeg:https://www.outandaboutadventures.com.au/wp-content/uploads/2018/06/Resized_20201104_093759.jpg
ORGANIZER;CN="Peter":MAILTO:info@outandaboutadventures.com.au
GEO:-36.4172;148.6248
END:VEVENT
BEGIN:VEVENT
DTSTART;TZID=Australia/Sydney:20251116T083000
DTEND;TZID=Australia/Sydney:20251116T120000
DTSTAMP:20260422T130014
CREATED:20240326T224818Z
LAST-MODIFIED:20250731T100950Z
UID:3702-1763281800-1763294400@www.outandaboutadventures.com.au
SUMMARY:Kayaking - Swansea & Lake Macquarie
DESCRIPTION:[vc_row][vc_column][vc_column_text] \nGet active and outdoors on Lake Macquarie with an adventure!\nCome and join us for a leisurely paddle departing from Wangi Point boat ramp. After gearing up and going through a short safety briefing\, we’ll venture our way across the lake to visit Swansea Channel\, the sand islands and the surrounding bays. \nAcross the half-day session\, we’ll paddle approximately 7-8 km and enjoy morning tea together along the way. \nThis is a great adventure to do with friends and family – why not bring someone along? \n\nTickets are $95pp. Purchase your tickets below\, or contact us with any questions. \nMinimum age is 8 years old\, and must be accompanied by their parent/guardian. Please contact us to discuss. \n[/vc_column_text][/vc_column][/vc_row][vc_row][vc_column][vc_btn title=”Read more\, see checklists & enquire” color=”warning” size=”lg” align=”center” i_icon_fontawesome=”fa fa-hand-pointer-o” add_icon=”true” link=”url:https%3A%2F%2Fwww.outandaboutadventures.com.au%2Ftours%2Fsea-kayaking%2F|||”][/vc_column][/vc_row]
URL:https://www.outandaboutadventures.com.au/event/kayaking-swansea-lake-macquarie-5/
LOCATION:Lake Macquarie/Swansea Area\, Carpark opposite Wangi Pt Tourist Park\, Wangi Wangi\, NSW\, 2267\, Australia
CATEGORIES:Paddling Skills,Sea Kayaking
ATTACH;FMTTYPE=image/jpeg:https://www.outandaboutadventures.com.au/wp-content/uploads/2021/10/150844864_3877049749004982_8034698439098803933_n-e1637016088933.jpg
GEO:-33.0741651;151.6097376
X-APPLE-STRUCTURED-LOCATION;VALUE=URI;X-ADDRESS=Lake Macquarie/Swansea Area Carpark opposite Wangi Pt Tourist Park Wangi Wangi NSW 2267 Australia;X-APPLE-RADIUS=500;X-TITLE=Carpark opposite Wangi Pt Tourist Park:geo:151.6097376,-33.0741651
END:VEVENT
END:VCALENDAR