BEGIN:VCALENDAR
VERSION:2.0
PRODID:-//Out and About Adventures - ECPv5.9.2//NONSGML v1.0//EN
CALSCALE:GREGORIAN
METHOD:PUBLISH
X-WR-CALNAME:Out and About Adventures
X-ORIGINAL-URL:https://www.outandaboutadventures.com.au
X-WR-CALDESC:Events for Out and About Adventures
BEGIN:VTIMEZONE
TZID:Australia/Sydney
BEGIN:STANDARD
TZOFFSETFROM:+1100
TZOFFSETTO:+1000
TZNAME:AEST
DTSTART:20250405T160000
END:STANDARD
BEGIN:DAYLIGHT
TZOFFSETFROM:+1000
TZOFFSETTO:+1100
TZNAME:AEDT
DTSTART:20251004T160000
END:DAYLIGHT
END:VTIMEZONE
BEGIN:VEVENT
DTSTART;TZID=Australia/Sydney:20250803T083000
DTEND;TZID=Australia/Sydney:20250803T120000
DTSTAMP:20260422T172658
CREATED:20240925T065450Z
LAST-MODIFIED:20250616T094625Z
UID:3825-1754209800-1754222400@www.outandaboutadventures.com.au
SUMMARY:Bushwalk - Upper Gap Creek
DESCRIPTION:[vc_row][vc_column][vc_column_text] \nAn exhilarating walk in the Watagans forest!\nThis circuit walk starts with a walk into the rainforest with a gentle climb following a trail to a landmark arch before exploring beautiful Gap Creek. After a morning tea break\, we will then return part way along our route before descending to enjoy some time at the base of Gap Creek Falls-a majestic drop of over 45m. The final climb back to the the start on a well defined track will certainly raise your pulse but also provide a great sense of achievement. \nCome along for this adventure in this beautiful section of Watagans National Park\, which is not often visited. We recommend a moderate level of fitness for this 6 km circuit and would encourage participants to wear sturdy footwear. \n[/vc_column_text][/vc_column][/vc_row][vc_row][vc_column][vc_btn title=”Read more\, see checklists & enquire” color=”warning” size=”lg” align=”center” i_icon_fontawesome=”fa fa-hand-pointer-o” add_icon=”true” link=”url:https%3A%2F%2Fwww.outandaboutadventures.com.au%2Ftours%2Fabseiling%2F|||”][/vc_column][/vc_row]
URL:https://www.outandaboutadventures.com.au/event/bushwalk-upper-gap-creek-2/
LOCATION:Watagans – Upper Gap Creek\, Gap Ck carpark\, End of Bangalow Rd\, Watagans National Park\, Cooranbong\, NSW\, 2265\, Australia
CATEGORIES:Hiking
ATTACH;FMTTYPE=image/jpeg:https://www.outandaboutadventures.com.au/wp-content/uploads/2023/05/20200816_100446-scaled.jpg
GEO:-33.013265;151.430662
X-APPLE-STRUCTURED-LOCATION;VALUE=URI;X-ADDRESS=Watagans – Upper Gap Creek Gap Ck carpark End of Bangalow Rd Watagans National Park Cooranbong NSW 2265 Australia;X-APPLE-RADIUS=500;X-TITLE=Gap Ck carpark\, End of Bangalow Rd\, Watagans National Park:geo:151.430662,-33.013265
END:VEVENT
BEGIN:VEVENT
DTSTART;VALUE=DATE:20250814
DTEND;VALUE=DATE:20250816
DTSTAMP:20260422T172658
CREATED:20250616T093215Z
LAST-MODIFIED:20250616T093215Z
UID:4137-1755129600-1755302399@www.outandaboutadventures.com.au
SUMMARY:Private Hike & Paddle Program
DESCRIPTION:
URL:https://www.outandaboutadventures.com.au/event/private-hike-paddle-program/
LOCATION:NSW
END:VEVENT
BEGIN:VEVENT
DTSTART;TZID=Australia/Sydney:20250817T090000
DTEND;TZID=Australia/Sydney:20250817T150000
DTSTAMP:20260422T172658
CREATED:20250731T114313Z
LAST-MODIFIED:20250731T122701Z
UID:4156-1755421200-1755442800@www.outandaboutadventures.com.au
SUMMARY:Paddle\, Bike N Hike - The Entrance
DESCRIPTION:[vc_row][vc_column][vc_column_text] \nPaddling\, morning tea and a gentle Cycling and Hiking adventure for you to remember!!\nJoin our circuit kayaking tour of the islands and channel at the mouth of Tuggerah Lake. We’ll be using our double sea-kayaks which are very stable and comfortable; you’ll either paddle with a friend or another solo adventurer as we check out the local birdlife. When we pause for a break\, stretch  and chat\, you’ll enjoy a refreshing morning tea before we continue our journey to finish at North Entrance Foreshore Reserve. \nAfter a 30 minute lunch break and comfort stop\, we will hop on one of our well maintained and comfortable mountain bikes for some easy riding through the bush on the new cycleway for about 4km. After securing the bikes\, we will undertake a hike of about 1 hour on the very scenic Lillipilli Track. This well-maintained circuit track in Wyrrabolong National Park has some amazing coastal rainforest vegetation and offers views out over Tuggerah Lake and north to Canton Beach and Toukley. Back on our bikes\, we will enjoy a leisurely ride south to our starting location. \nYour guide will provide all the paddling/cycling gear and instruction across the day to help you feel confident and supported. We do not provide e-bikes but the cycling is on flat paths with no road travel involved. Toilet facilities and parking are available at the start/finish location. \nMinimum age of participants is 12 years old (must be accompanied by parent or guardian). \n[/vc_column_text][/vc_column][/vc_row][vc_row][vc_column][vc_btn title=”Read more\, see checklists & enquire” color=”warning” size=”lg” align=”center” i_icon_fontawesome=”fa fa-hand-pointer-o” add_icon=”true” link=”url:https%3A%2F%2Fwww.outandaboutadventures.com.au%2Ftours%2Fsea-kayaking%2F|||”][/vc_column][/vc_row]
URL:https://www.outandaboutadventures.com.au/event/paddle-bike-n-hike-the-entrance/
LOCATION:North Entrance Foreshore Reserve\, Wilfred Barrett Drive\, The Entrance North\, NSW\, 2261\, Australia
CATEGORIES:Cycling,Hiking,Sea Kayaking
ATTACH;FMTTYPE=image/jpeg:https://www.outandaboutadventures.com.au/wp-content/uploads/2018/06/Kayaking-with-Out-and-About-Adventures-3-banner.jpg
END:VEVENT
BEGIN:VEVENT
DTSTART;VALUE=DATE:20250824
DTEND;VALUE=DATE:20250826
DTSTAMP:20260422T172658
CREATED:20241210T045546Z
LAST-MODIFIED:20250616T093131Z
UID:3945-1755993600-1756166399@www.outandaboutadventures.com.au
SUMMARY:Private Hike & Paddle Program
DESCRIPTION:
URL:https://www.outandaboutadventures.com.au/event/private-paddle-program-popran-creek/
LOCATION:NSW
END:VEVENT
END:VCALENDAR