BEGIN:VCALENDAR
VERSION:2.0
PRODID:-//Out and About Adventures - ECPv5.9.2//NONSGML v1.0//EN
CALSCALE:GREGORIAN
METHOD:PUBLISH
X-WR-CALNAME:Out and About Adventures
X-ORIGINAL-URL:https://www.outandaboutadventures.com.au
X-WR-CALDESC:Events for Out and About Adventures
BEGIN:VTIMEZONE
TZID:Australia/Sydney
BEGIN:STANDARD
TZOFFSETFROM:+1100
TZOFFSETTO:+1000
TZNAME:AEST
DTSTART:20260404T160000
END:STANDARD
BEGIN:DAYLIGHT
TZOFFSETFROM:+1000
TZOFFSETTO:+1100
TZNAME:AEDT
DTSTART:20261003T160000
END:DAYLIGHT
END:VTIMEZONE
BEGIN:VEVENT
DTSTART;TZID=Australia/Sydney:20260419T083000
DTEND;TZID=Australia/Sydney:20260419T153000
DTSTAMP:20260420T175307
CREATED:20250206T233310Z
LAST-MODIFIED:20260309T231455Z
UID:4067-1776587400-1776612600@www.outandaboutadventures.com.au
SUMMARY:Kayaking - Sydney Harbour
DESCRIPTION:[vc_row][vc_column][vc_column_text] \nSee Sydney as you’ve never seen her before – a must-do adventure! \nJoin us as we paddle the 3 Bridges – the Sydney Harbour\, Old Pyrmont and Anzac Bridges. Departing from Greenwich on the north side\, you’ll spot some of the harbour’s best-loved sites on our circuit\, including Luna Park and the Opera House. And of course\, we’ll snap a photo of you in front of the iconic Sydney Harbour Bridge. \nPaddle with a friend or come ready to make some new ones! Morning tea and a tasty and refreshing lunch/cold drinks at Elizabeth Macarthur Bay are also included – what’s not to love? \nYour guide will provide all the paddling gear and instruction for you to feel at ease. \n\nTickets are $165pp. Bookings are essential – book your place below or contact us for more information. \n[/vc_column_text][/vc_column][/vc_row][vc_row][vc_column][vc_btn title=”Read more\, see checklists & enquire” color=”warning” size=”lg” align=”center” i_icon_fontawesome=”fa fa-hand-pointer-o” add_icon=”true” link=”url:https%3A%2F%2Fwww.outandaboutadventures.com.au%2Ftours%2Fsea-kayaking%2F|||”][/vc_column][/vc_row]
URL:https://www.outandaboutadventures.com.au/event/kayaking-sydney-harbour-2/
LOCATION:Sydney Harbour\, Manns Point Boat Ramp via O'Connell Street\, Greenwich\, NSW\, 2065\, Australia
CATEGORIES:Sea Kayaking
ATTACH;FMTTYPE=image/jpeg:https://www.outandaboutadventures.com.au/wp-content/uploads/2018/09/IMG_2603.jpg
GEO:-33.842435;151.185261
X-APPLE-STRUCTURED-LOCATION;VALUE=URI;X-ADDRESS=Sydney Harbour Manns Point Boat Ramp via O'Connell Street Greenwich NSW 2065 Australia;X-APPLE-RADIUS=500;X-TITLE=Manns Point Boat Ramp via O'Connell Street:geo:151.185261,-33.842435
END:VEVENT
BEGIN:VEVENT
DTSTART;VALUE=DATE:20260423
DTEND;VALUE=DATE:20260430
DTSTAMP:20260420T175307
CREATED:20260216T220905Z
LAST-MODIFIED:20260216T220905Z
UID:4365-1776902400-1777507199@www.outandaboutadventures.com.au
SUMMARY:Snowy Mountains Hike and Paddle Adventure
DESCRIPTION:Our multi-day adventure in the Snowy Mountains is a must-do!  \nExperience the high country above the snowline in Kosciuszko National Park. We complete various day walks on tracks and also in alpine meadows with an experienced guide\, and cater for beginner to experienced adventurers. We like this to be a small-group adventure\, so limit our groups to no more than 7 participants.  \nThere’ll be time for us to also complete 2 paddles on the calm waters of Lake Jindabyne\, and perhaps even have a BBQ on the way.  \n \n  \n  \nOur 6 nights accommodation is in quiet chalets near Jindabyne; each person is to self-cater and provide their own hiking gear. Shuttle van transfer for meals/shopping can be arranged upon request.   \n$1080.00 pp (includes accommodation\, transfers from Lake Macquarie area\, daily National Parks Entry\, use of kayaking equipment\, lift tickets at Thredbo and the services of your experienced guide for the week). A deposit of $325pp is required to secure your booking and interested parties can make contact via our Contact Us page of the website or contact Peter directly on 0404878332. \n 
URL:https://www.outandaboutadventures.com.au/event/snowy-mountains-hike-and-paddle-adventure/
LOCATION:Snowy Mountains | Kosciuszko National Park\, New South Wales\, Australia
CATEGORIES:Adventure Tours,Hiking,Sea Kayaking
ATTACH;FMTTYPE=image/jpeg:https://www.outandaboutadventures.com.au/wp-content/uploads/2018/06/Resized_20201104_093759.jpg
ORGANIZER;CN="Peter":MAILTO:info@outandaboutadventures.com.au
GEO:-36.4172;148.6248
END:VEVENT
BEGIN:VEVENT
DTSTART;TZID=Australia/Sydney:20260503T083000
DTEND;TZID=Australia/Sydney:20260503T120000
DTSTAMP:20260420T175307
CREATED:20220305T024327Z
LAST-MODIFIED:20260410T233058Z
UID:2752-1777797000-1777809600@www.outandaboutadventures.com.au
SUMMARY:Bushwalk - Ghosties Beach
DESCRIPTION:[vc_row][vc_column][vc_column_text] \nOne of our favourite coastal walks!\nThis is a fantastic location for getting out and about. Our walk will take us from Catherine Hill Bay to explore the coastal trail and Moonie and Ghosties beaches. Along the way\, we will stop for morning tea near an amazing cave and do a little exploration(subject to tide/sea state) \nThis a great way to see the outdoors and see a variety of coastal vegetation and birdlife! This circuit is roughly 8km in length and on a variety of walking terrain. \nSo why not bring a friend along? Reserve your place below. \n[/vc_column_text][/vc_column][/vc_row][vc_row][vc_column][vc_btn title=”Read more\, see checklists & enquire” color=”warning” size=”lg” align=”center” i_icon_fontawesome=”fa fa-hand-pointer-o” add_icon=”true” link=”url:https%3A%2F%2Fwww.outandaboutadventures.com.au%2Ftours%2Fabseiling%2F|||”][/vc_column][/vc_row]
URL:https://www.outandaboutadventures.com.au/event/bushwalk-ghosties-beach/
LOCATION:Catherine Hill Bay | Munmorah State Conservation Area
CATEGORIES:Hiking
ATTACH;FMTTYPE=image/jpeg:https://www.outandaboutadventures.com.au/wp-content/uploads/2022/03/107486050_3206598736050090_7622436855148093434_n.jpeg
GEO:-33.161736;151.6287
END:VEVENT
BEGIN:VEVENT
DTSTART;TZID=Australia/Sydney:20260510T173000
DTEND;TZID=Australia/Sydney:20260510T210000
DTSTAMP:20260420T175307
CREATED:20240126T065447Z
LAST-MODIFIED:20260413T032910Z
UID:3682-1778434200-1778446800@www.outandaboutadventures.com.au
SUMMARY:Paddle & Pizza on Newcastle Harbour
DESCRIPTION:[vc_row][vc_column][vc_column_text] \nPaddling\, Pizza and a Day to remember!\nCome join our popular Paddle & Pizza tour for a bit of adventure on your weekend.  \nWe’ll stop along the way to dine on delicious pizza; great food\, company and fun! Departing from Carrington boat ramp\, we’ll circuit along the marina precinct\, Honeysuckle Wharf and see those iconic spots along Newcastle Harbour. \nYour guide will provide all paddling gear and instruction. This is a great social activity – why not bring along a mate or loved one? \nMinimum age of participants is 8 years old (must be accompanied by parent or guardian). \n[/vc_column_text][/vc_column][/vc_row][vc_row][vc_column][vc_btn title=”Read more\, see checklists & enquire” color=”warning” size=”lg” align=”center” i_icon_fontawesome=”fa fa-hand-pointer-o” add_icon=”true” link=”url:https%3A%2F%2Fwww.outandaboutadventures.com.au%2Ftours%2Fsea-kayaking%2F|||”][/vc_column][/vc_row]
URL:https://www.outandaboutadventures.com.au/event/paddle-pizza-on-newcastle-harbour-3/
LOCATION:Newcastle Harbour\, Carrington Boat Ramp on Tully Street\, Carrington\, NSW\, 2294\, Australia
CATEGORIES:Sea Kayaking
ATTACH;FMTTYPE=image/jpeg:https://www.outandaboutadventures.com.au/wp-content/uploads/2019/11/IMG20191117190020.jpg
GEO:-32.9166131;151.7612624
X-APPLE-STRUCTURED-LOCATION;VALUE=URI;X-ADDRESS=Newcastle Harbour Carrington Boat Ramp on Tully Street Carrington NSW 2294 Australia;X-APPLE-RADIUS=500;X-TITLE=Carrington Boat Ramp on Tully Street:geo:151.7612624,-32.9166131
END:VEVENT
END:VCALENDAR