BEGIN:VCALENDAR
VERSION:2.0
PRODID:-//Out and About Adventures - ECPv5.9.2//NONSGML v1.0//EN
CALSCALE:GREGORIAN
METHOD:PUBLISH
X-WR-CALNAME:Out and About Adventures
X-ORIGINAL-URL:https://www.outandaboutadventures.com.au
X-WR-CALDESC:Events for Out and About Adventures
BEGIN:VTIMEZONE
TZID:Australia/Sydney
BEGIN:STANDARD
TZOFFSETFROM:+1100
TZOFFSETTO:+1000
TZNAME:AEST
DTSTART:20190406T160000
END:STANDARD
BEGIN:DAYLIGHT
TZOFFSETFROM:+1000
TZOFFSETTO:+1100
TZNAME:AEDT
DTSTART:20191005T160000
END:DAYLIGHT
END:VTIMEZONE
BEGIN:VEVENT
DTSTART;TZID=Australia/Sydney:20190610T090000
DTEND;TZID=Australia/Sydney:20190610T120000
DTSTAMP:20260423T123532
CREATED:20190419T061856Z
LAST-MODIFIED:20200526T064337Z
UID:1603-1560157200-1560168000@www.outandaboutadventures.com.au
SUMMARY:Kayaking - Wangi and Lake Macquarie
DESCRIPTION:[vc_row][vc_column][vc_column_text]Come and join us for a leisurely paddle on Lake Macquarie over the Long Weekend. We provide the double sea kayaks (very stable and comfortable)\, all the gear and the services of a qualified and experienced guide. Great for friends and family to get outdoors together and create an adventure memory. \nMorning tea served during the circuit around Pulbah Island with total paddling distance of approximately 5km. \nMinimum age is 8 years old.[/vc_column_text][/vc_column][/vc_row][vc_row][vc_column][vc_btn title=”Read more\, see checklists & enquire” color=”warning” size=”lg” align=”center” i_icon_fontawesome=”fa fa-hand-pointer-o” add_icon=”true” link=”url:https%3A%2F%2Fwww.outandaboutadventures.com.au%2Ftours%2Fsea-kayaking%2F|||”][/vc_column][/vc_row]
URL:https://www.outandaboutadventures.com.au/event/kayaking-lake-macquarie-wangi-area-3/
LOCATION:Lake Macquarie/Swansea Area\, Carpark opposite Wangi Pt Tourist Park\, Wangi Wangi\, NSW\, 2267\, Australia
CATEGORIES:Paddling Skills,Sea Kayaking
ATTACH;FMTTYPE=image/jpeg:https://www.outandaboutadventures.com.au/wp-content/uploads/2018/07/Sea-Kayaking-on-Lake-Macquarie-banner.jpg
GEO:-33.0741651;151.6097376
X-APPLE-STRUCTURED-LOCATION;VALUE=URI;X-ADDRESS=Lake Macquarie/Swansea Area Carpark opposite Wangi Pt Tourist Park Wangi Wangi NSW 2267 Australia;X-APPLE-RADIUS=500;X-TITLE=Carpark opposite Wangi Pt Tourist Park:geo:151.6097376,-33.0741651
END:VEVENT
BEGIN:VEVENT
DTSTART;TZID=Australia/Sydney:20190602T083000
DTEND;TZID=Australia/Sydney:20190602T153000
DTSTAMP:20260423T123532
CREATED:20200526T074658Z
LAST-MODIFIED:20200526T074658Z
UID:1713-1559464200-1559489400@www.outandaboutadventures.com.au
SUMMARY:Bushwalk - Yuelarbah Trail
DESCRIPTION:[vc_row][vc_column][vc_column_text] This is a pleasant return walk along the Yuelarbah trail\, which forms part of The Great North Walk between Sydney and Newcastle. We will walk along sections of boardwalk\, trail\, beach and rock-platforms to keep things interesting. Arriving at Merewether Surf Club\, we will take a short rest to enjoy a barista-made coffee or hot drink\, while watching the surf. The return walk will take us back to our starting point. A great way to see the outdoors! We recommend moderate fitness for this 9km circuit.  \nTickets are $45pp. Bookings are essential – contact us to reserve your place or for more information. \n[/vc_column_text][/vc_column][/vc_row][vc_row][vc_column][vc_btn title=”Read more\, see checklists & enquire” color=”warning” size=”lg” align=”center” i_icon_fontawesome=”fa fa-hand-pointer-o” add_icon=”true” link=”url:https%3A%2F%2Fwww.outandaboutadventures.com.au%2Ftours%2Fabseiling%2F|||”][/vc_column][/vc_row]
URL:https://www.outandaboutadventures.com.au/event/bushwalk-yuelarbah-trail/
LOCATION:Glenrock State Conservation Area\, Scout Camp Road\, Whitebridge\, NSW\, 2290\, Australia
CATEGORIES:Hiking
GEO:-32.9646009;151.7266673
X-APPLE-STRUCTURED-LOCATION;VALUE=URI;X-ADDRESS=Glenrock State Conservation Area Scout Camp Road Whitebridge NSW 2290 Australia;X-APPLE-RADIUS=500;X-TITLE=Scout Camp Road:geo:151.7266673,-32.9646009
END:VEVENT
END:VCALENDAR