BEGIN:VCALENDAR
VERSION:2.0
PRODID:-//Out and About Adventures - ECPv5.9.2//NONSGML v1.0//EN
CALSCALE:GREGORIAN
METHOD:PUBLISH
X-WR-CALNAME:Out and About Adventures
X-ORIGINAL-URL:https://www.outandaboutadventures.com.au
X-WR-CALDESC:Events for Out and About Adventures
BEGIN:VTIMEZONE
TZID:Australia/Sydney
BEGIN:STANDARD
TZOFFSETFROM:+1100
TZOFFSETTO:+1000
TZNAME:AEST
DTSTART:20220402T160000
END:STANDARD
BEGIN:DAYLIGHT
TZOFFSETFROM:+1000
TZOFFSETTO:+1100
TZNAME:AEDT
DTSTART:20221001T160000
END:DAYLIGHT
END:VTIMEZONE
BEGIN:VEVENT
DTSTART;TZID=Australia/Sydney:20221106T083000
DTEND;TZID=Australia/Sydney:20221106T153000
DTSTAMP:20260425T002149
CREATED:20191122T233123Z
LAST-MODIFIED:20220917T021057Z
UID:1637-1667723400-1667748600@www.outandaboutadventures.com.au
SUMMARY:Sea Kayaking & BBQ - Brooklyn and Dangar Island
DESCRIPTION:[vc_row][vc_column][vc_column_text] \nA fantastic full-day adventure to explore the Hawkesbury River. Our journey will include regular stops on sandy beaches and there will be some free time to explore\, swim or just chill out in the rockpools. \nOn our 10km circuit\, you’ll learn how to paddle and steer your double sea-kayak. We’ll even enjoy a BBQ lunch and time to explore Dangar Island. \nWhy not bring along a mate or some of the family? Book your ticket below. \n\nWe ask participants not to attend if they have severe cold/flu symptoms \n[/vc_column_text][/vc_column][/vc_row][vc_row][vc_column][vc_btn title=”Read more\, see checklists & enquire” color=”warning” size=”lg” align=”center” i_icon_fontawesome=”fa fa-hand-pointer-o” add_icon=”true” link=”url:https%3A%2F%2Fwww.outandaboutadventures.com.au%2Ftours%2Fsea-kayaking%2F|||”][/vc_column][/vc_row]
URL:https://www.outandaboutadventures.com.au/event/kayaking-dangar-island/
LOCATION:Hawkesbury River\, Parsley Bay Boat Ramp\, McKell Park\, George Street\, Brooklyn\, NSW\, 2083
CATEGORIES:Sea Kayaking
ATTACH;FMTTYPE=image/jpeg:https://www.outandaboutadventures.com.au/wp-content/uploads/2019/11/78285775_2701048443271791_4766100714172710912_n.jpg
GEO:-33.5477256;151.2301145
X-APPLE-STRUCTURED-LOCATION;VALUE=URI;X-ADDRESS=Hawkesbury River Parsley Bay Boat Ramp McKell Park George Street Brooklyn NSW 2083;X-APPLE-RADIUS=500;X-TITLE=Parsley Bay Boat Ramp\, McKell Park\, George Street:geo:151.2301145,-33.5477256
END:VEVENT
END:VCALENDAR