BEGIN:VCALENDAR
VERSION:2.0
PRODID:-//Out and About Adventures - ECPv5.9.2//NONSGML v1.0//EN
CALSCALE:GREGORIAN
METHOD:PUBLISH
X-WR-CALNAME:Out and About Adventures
X-ORIGINAL-URL:https://www.outandaboutadventures.com.au
X-WR-CALDESC:Events for Out and About Adventures
BEGIN:VTIMEZONE
TZID:Australia/Sydney
BEGIN:STANDARD
TZOFFSETFROM:+1100
TZOFFSETTO:+1000
TZNAME:AEST
DTSTART:20260404T160000
END:STANDARD
BEGIN:DAYLIGHT
TZOFFSETFROM:+1000
TZOFFSETTO:+1100
TZNAME:AEDT
DTSTART:20261003T160000
END:DAYLIGHT
END:VTIMEZONE
BEGIN:VEVENT
DTSTART;TZID=Australia/Sydney:20260321T063000
DTEND;TZID=Australia/Sydney:20260321T103000
DTSTAMP:20260424T211209
CREATED:20260116T050208Z
LAST-MODIFIED:20260316T203000Z
UID:4314-1774074600-1774089000@www.outandaboutadventures.com.au
SUMMARY:Canberra - Balloon Festival Kayaking
DESCRIPTION:Paddle between the balloons at the Canberra Balloon Festival!\nJoin us for an early start to watch the hot-air balloons launch and dance on the calm waters of Lake Burley Griffin. We’ll be right amongst the many colourful balloons of all shapes\, sizes and characters\, with the morning sunrise as their backdrop. We’ll continue paddling towards Black Mountain with its iconic tower\, before stopping for a delicious breakfast at the waterside Cafe Sosta (own expense) to reward our early morning efforts! Our morning circuit will end back where we started at Lotus Bay\, on the south-side of the lake.  \nThis is a fantastic event to enjoy with a friend – bring someone along and enjoy a beautiful morning in Canberra! We cater for beginner to experienced adventurers and will be moving at a relaxed pace. \nPlease note: the hot air balloons launch dependent on weather and an announcement is made by event organisers each morning. In the event that the balloons do not launch\, our kayaking event will still proceed with a modified itinerary. If extreme weather is forecast and kayaking is cancelled by the event host\, participants can choose to take a credit against future activities or receive a full refund. \n  \n \n \n 
URL:https://www.outandaboutadventures.com.au/event/canberra-balloon-festival-kayak/
LOCATION:Canberra\, Australian Capital Territory\, Australia
CATEGORIES:Adventure Tours,Sea Kayaking,Special Events
ATTACH;FMTTYPE=image/jpeg:https://www.outandaboutadventures.com.au/wp-content/uploads/2026/01/IMG_9923-scaled.jpg
ORGANIZER;CN="Peter":MAILTO:info@outandaboutadventures.com.au
GEO:-35.30089;149.11916
END:VEVENT
END:VCALENDAR